BEGIN:VCALENDAR
VERSION:2.0
PRODID:icalendar-ruby
CALSCALE:GREGORIAN
METHOD:PUBLISH
BEGIN:VEVENT
DTSTAMP:20260424T122751Z
UID:81-738103@infinitychurch.org
DTSTART;VALUE=DATE:20260427
DTEND;VALUE=DATE:20260615
CLASS:PUBLIC
CREATED:20260424T122555
DESCRIPTION:At Infinity Church\, Discipleship is all about building friends
 hips that point to Jesus. Our connect groups are interest based to help bu
 ild community and empower discipleship.\nIf you're looking to connect\, le
 arn and grow register now!\n \nIn Person:\n \n\nMusic Practice &amp\; Wo
 rship Study with Rhys Anderson - 7:30PM 1st &amp\; 3rd Mondays of month\nM
 ums Group with Jess Rajapaksa - 10AM Wednesdays\nMen of Faith with Ken Coo
 k - 7:30PM Tuesdays\nLadies Bible Study with Donna Cook - 7:30PM Tuesdays\
 nInfinity Youth (Highschoolers) with Arun Joseph - 7PM Fridays\nFriday Fel
 lowship Group with Krysia Jenkinson - 12PM Fridays\nLearn to Sew with Jani
 ne Power - 5.30PM Fridays\nGals with Kate Gillam &amp\; Emily Dunkley - 7P
 M Sundays\n\nOnline:\n\nLadies Bible Study with Donna Cook - 7:30PM Wednes
 days (Starting 29/4)\n
LAST-MODIFIED:20260424T122555
LOCATION:
SUMMARY:Connect Block 2
URL;VALUE=URI:https://infinitychurch.org/events/connect-block-2--81/2026-04
 -27
END:VEVENT
END:VCALENDAR
