BEGIN:VCALENDAR
VERSION:2.0
PRODID:icalendar-ruby
CALSCALE:GREGORIAN
METHOD:PUBLISH
BEGIN:VEVENT
DTSTAMP:20260425T125352Z
UID:16-741850@infinitychurch.org
DTSTART:20261031T070000Z
DTEND:20261031T090000Z
CLASS:PUBLIC
CREATED:20260425T213035
DESCRIPTION:
LAST-MODIFIED:20260425T213035
LOCATION:Infinity Church - Main Auditorium
SUMMARY:Farsi Service
URL;VALUE=URI:https://infinitychurch.org/events/farsi-service--16/2026-10-3
 1
ATTACH;FILENAME=photo-28-5-2023%2C-7-53-53-pm.jpg;FMTTYPE=image/jpeg:https:
 //dq5pwpg1q8ru0.cloudfront.net/2024/05/02/02/51/35/48801fef-8283-4fb8-a234
 -b2ebd6fa81a0/photo-28-5-2023%252C-7-53-53-pm.jpg
END:VEVENT
END:VCALENDAR
